BEGIN:VCALENDAR
VERSION:2.0
PRODID:-//hacksw/handcal//NONSGML v1.0//EN
BEGIN:VEVENT
SUMMARY:ALC / USVG 1
UID:50521a3f-12ec-429c-b369-6dbf69c34ed1
DTSTART:20260422T180000Z
DTEND:20260422T220000Z
LOCATION:Localisation   
CATEGORIES:Sportif
STATUS:
URL;VALUE=URI:https://www.us-valleedelagresse.com/evenements/2026/04/22/alc-usvg-1-2443704
END:VEVENT
END:VCALENDAR
