BEGIN:VCALENDAR
VERSION:2.0
PRODID:-//hacksw/handcal//NONSGML v1.0//EN
BEGIN:VEVENT
SUMMARY:USSE / USVG
UID:c85beecc-e789-4926-8296-aa4a2f8c4ebe
DTSTART:20260425T103000Z
DTEND:20260425T220000Z
LOCATION:Localisation   
CATEGORIES:Sportif
STATUS:
URL;VALUE=URI:https://www.us-valleedelagresse.com/evenements/2026/04/25/usse-usvg-2443702
END:VEVENT
END:VCALENDAR
